BEGIN:VCALENDAR
VERSION:2.0
PRODID:-//wp-events-plugin.com//7.2.3.1//EN
BEGIN:VEVENT
UID:93@awocademy.de
DTSTART:20260924T060000Z
DTEND:20260924T120000Z
DTSTAMP:20251015T134938Z
URL:https://awocademy.de/veranstaltung/work-life-in-balance-tagesseminar/
SUMMARY:Work-Life in Balance? (Tagesseminar)
DESCRIPTION:\n\nFür alle\, die sich mehr Gleichgewicht in ihrem Leben wün
 schen.\n\n&nbsp\;\n\nIn diesem Workshop gehen wir auf Spurensuche\, was be
 stimmt mein Bild einer Work-Life-Balance und wo sind bei mir Wünsche offe
 n?\n\n\n\n\n\nIst meine Freizeitgestaltung wirklich ein Ausgleich oder sor
 ge ich selbst für Freizeitstress? Wie kann es mir gelingen\, sogar in mei
 ner Arbeitszeit eine Balance zu erreichen?\n\n\n\n\nHier hat jede:r indivi
 duelle Vorstellungen und Wege entsprechend der eigenen Werte\, Biografie\,
  Vorlieben\, Ressourcen und Strategien.\n\n\n\n\nSich Zeit nehmen\, erkenn
 en\, was ich wirklich möchte/brauche und konkrete Impulse mitnehmen für 
 kleine oder große Schritte – wer das möchte\, ist hier richtig.\n\n\n\
 n\n&nbsp\;\n\n\n\n\n\n\nWorkshop Nr. : AC-2026-28\n\n\n\n\n\n\nDo. 24.09.2
 026\, 08.00 -14.00 Uhr\n\n\n\n\n\n\nAngela Plentz - Coachin &amp\; Mediato
 rin\n\n\n\n\n\n\n90\,00€\n\n\n\n\n\n\n20 Freie Plätze\n\n\n\n\n\n\nAnme
 ldung bis: Do. 10.09.2026\n\n\n\n\n\n\nAWO Kita Wilhelm-Kunze-Ring\n\n\n\n
 \nWilhelm-Kunze-Ring 37\, 38226 Salzgitter\n\n\n
ATTACH;FMTTYPE=image/jpeg:https://awocademy.de/wp-content/uploads/2025/10/
 Balance-Steine-e1760530923990.jpg
CATEGORIES:Methoden
END:VEVENT
END:VCALENDAR