BEGIN:VCALENDAR
VERSION:2.0
PRODID:-//wp-events-plugin.com//7.2.3.1//EN
BEGIN:VEVENT
UID:81@awocademy.de
DTSTART:20260520T130000Z
DTEND:20260520T160000Z
DTSTAMP:20251022T065227Z
URL:https://awocademy.de/veranstaltung/warum-nicht-unter-den-teppich-kehre
 n/
SUMMARY:Warum (nicht) unter den Teppich kehren?
DESCRIPTION:\n\nFür alle\, die in ihrem Berufsalltag mit Menschen arbeiten
  und ihre Kommunikations- und Konfliktfähigkeit weiterentwickeln möchten
 .\n\n&nbsp\;\n\nKonflikte sind Teil unseres beruflichen und privaten Allta
 gs – ob im Team\, mit Eltern oder Kolleg:innen. Doch wie gelingt es\, Sp
 annungen frühzeitig zu erkennen\, sie anzusprechen und gemeinsam Lösunge
 n zu finden? In diesem Workshop beschäftigen wir uns mit den Grundlagen d
 er Mediation und der Frage\, wie Konfliktlösung auf Augenhöhe gelingen k
 ann. Sie lernen\, wie Sie Konflikte besser einschätzen und Gespräche kon
 struktiv gestalten. Anhand von Beispielen aus Ihrer Praxis wird die Theori
 e zu Konfliktarten und Eskalationsstufen in Ihr Leben übertragen. Wir erf
 orschen mögliche Lösungswege\, so dass Sie am Ende bewusster entscheiden
  können\, wie Sie vorgehen möchten.\n\n&nbsp\;\n\n\n\n\n\nWorkshop Nr. :
  AC-2026-016\n\n\n\n\n\n\nMi. 20.05.2025\, 15.00 -18.00 Uhr\n\n\n\n\n\n\nA
 ngela Plentz - Coachin &amp\; Mediatorin\n\n\n\n\n\n\n45\,00€\n\n\n\n\n\
 n\n20 Freie Plätze\n\n\n\n\n\n\nAnmeldung bis: Mi. 06.05.2026\n\n\n\n\n\n
 \nSUWI - Stadtteilladen\n\n\n\n\nPappelweg 8\, 38226 Salzgitter\n\n\n
ATTACH;FMTTYPE=image/jpeg:https://awocademy.de/wp-content/uploads/2025/10/
 Stop-e1760519718745.jpg
CATEGORIES:Haltung &amp; Kommunikation
END:VEVENT
END:VCALENDAR