BEGIN:VCALENDAR
VERSION:2.0
PRODID:-//wp-events-plugin.com//7.2.3.1//EN
BEGIN:VEVENT
UID:92@awocademy.de
DTSTART:20260923T130000Z
DTEND:20260923T153000Z
DTSTAMP:20251022T065926Z
URL:https://awocademy.de/veranstaltung/viele-herausforderungen-wie-bleibe-
 ich-im-gleichgewicht/
SUMMARY:Viele Herausforderungen - Wie bleibe ich im Gleichgewicht?
DESCRIPTION:\n\n\nFür alle pädagogischen Fachkräfte\, die Kraftquellen e
 ntdecken und ihre Resilienz stärken möchten.\n\n&nbsp\;\n\nDer Alltag in
  der Kita und im pädagogischen Beruf bringt viele Aufgaben und Belastunge
 n mit sich. Oft fühlt man sich zwischen Ansprüchen\, Zeitdruck und Veran
 twortung hin- und hergerissen.\n\n\n\n\nIn diesem Workshop gehen wir gemei
 nsam der Frage nach\, wie Sie trotz vielfältiger Herausforderungen Ihre R
 esilienz stärken möchten. Sie lernen Strategien zur Stressbewältigung\,
  Selbstfürsorge und Achtsamkeit kennen – praktisch und alltagsnah. Dami
 t Sie auch morgen noch mit Spaß und Energie den Job und das Privatleben g
 estalten können.\n\n&nbsp\;\n\n\n\n\n\n\nWorkshop Nr. : AC-2026-27\n\n\n\
 n\n\n\nMi. 23.09.2026\, 15.00 -17.30 Uhr\n\n\n\n\n\n\nIris Bötcher-Schmid
 t - Dipl. Psych.\n\n\n\n\n\n\n30\,00€\n\n\n\n\n\n\n20 Freie Plätze\n\n\
 n\n\n\n\nAnmeldung bis: Mi. 09.09.2026\n\n\n\n\n\n\nAWO Okerknirpse\n\n\n\
 n\nIn den Schönen Morgen 12\, 38300 Wolfenbüttel\n\n\n
ATTACH;FMTTYPE=image/jpeg:https://awocademy.de/wp-content/uploads/2025/10/
 Gleichgewicht-e1760530427910.jpg
CATEGORIES:Psychologie
END:VEVENT
END:VCALENDAR