BEGIN:VCALENDAR
VERSION:2.0
PRODID:-//wp-events-plugin.com//7.2.3.1//EN
BEGIN:VEVENT
UID:91@awocademy.de
DTSTART:20260917T123000Z
DTEND:20260917T153000Z
DTSTAMP:20251022T065847Z
URL:https://awocademy.de/veranstaltung/vertiefende-kommunikation-leitungen
 -2/
SUMMARY:Vertiefende Kommunikation Leitungen
DESCRIPTION:Für alle die verstehen und verstanden werden wollen.\n\n&nbsp\
 ;\n\n\nSie verfügen bereits über Kenntnisse und Erfahrungen in der Anwen
 dung von Kommunikationstheorien oder Beratungsansätzen?\n\n\n\n\n\nDas Ko
 nzept von Sender und Empfänger\, das 4 Ohren-Modell \, innere Team\, Tran
 saktionsanalyse\, Grundsätze der gewaltfreien Kommunikation oder ähnlich
 es ist Ihnen nicht fremd? Vielleicht haben sie sogar eine Beraterausbildun
 g abgeschlossen und Gesprächsführung von der Pike auf gelernt… und doc
 h erleben Sie im beruflichen Kontext Situationen\, die Sie besser meistern
  möchten. Wenn Sie eine andere Wirkung erzielen wollen\, dann kommen Sie 
 in dieses Seminar. Wir möchten konkrete Gesprächsbedarfe\, die Sie mit e
 chten Menschen haben\, reflektieren und dabei neue Einsichten und Optionen
  entwickeln.\n\n&nbsp\;\n\n\n\n\n\n\nWorkshop Nr. : AP-2025-005\n\n\n\n\n\
 n\nDo. 17.09.2026\, 14.30 -17.30 Uhr\n\n\n\n\n\n\nAngela Plentz - Supervis
 orin &amp\; Mediatorin\n\n\n\n\n\n\n40\,00€\n\n\n\n\n\n\n20 Freie Plätz
 e\n\n\n\n\n\n\nAnmeldung bis: Do. 03.09.2026\n\n\n\n\n\n\nAWO Kita Wilhelm
 -Kunze-Ring\n\n\n\n\nWilhelm-Kunze-Ring 37\, 38226 Salzgitter\n\n\n
ATTACH;FMTTYPE=image/jpeg:https://awocademy.de/wp-content/uploads/2025/10/
 Kommunikation-e1760012567572.jpg
CATEGORIES:Haltung &amp; Kommunikation
END:VEVENT
END:VCALENDAR