BEGIN:VCALENDAR
VERSION:2.0
PRODID:-//wp-events-plugin.com//7.2.3.1//EN
BEGIN:VEVENT
UID:101@awocademy.de
DTSTART:20261119T130000Z
DTEND:20261119T160000Z
DTSTAMP:20251022T072832Z
URL:https://awocademy.de/veranstaltung/trauerbegleitung-von-trennung-bis-z
 um-tod-wie-begleite-ich-familien-durch-diese-zeit/
SUMMARY:Trauerbegleitung - Von Trennung bis zum Tod - Wie begleite ich Fami
 lien durch diese Zeit
DESCRIPTION:\n\nFür alle\, die Familien in Krisenzeiten sicher und wertsch
 ätzend begleiten möchten.\n\n&nbsp\;\n\n\n\n\n\nTrennung\, Verlust und T
 od sind schwierige Themen\, die Familien tief berühren und oft auch päda
 gogische Fachkräfte herausfordern. In diesem Workshop erfahren Sie\, wie 
 Sie Familien in solchen belastenden Phasen einfühlsam und professionell u
 nterstützen können.\n\n\n\n\nWir vermitteln Grundlagen der Trauerbegleit
 ung\, zeigen Wege auf\, wie Sie Kinder und Eltern sensibel begleiten und g
 eben praxisnahe Tipps für den Umgang mit unterschiedlichen Trauerreaktion
 en. Dabei steht die Stärkung Ihrer eigenen Haltung und Ressourcen im Foku
 s.\n\n\n\n\n&nbsp\;\n\n\n\n\n\n\nWorkshop Nr. : AC-2026-36\n\n\n\n\n\n\nDo
 . 19.11.2026\, 15.00 -18.00 Uhr\n\n\n\n\n\n\nHospiz Initiative\n\n\n\n\n\n
 \n10\,00€\n\n\n\n\n\n\n20 Freie Plätze\n\n\n\n\n\n\nAnmeldung bis: Do. 
 05.11.2026\n\n\n\n\n\n\nSUWI - Stadtteilladen\n\n\n\n\nPappelweg 8\, 38226
  Salzgitter\n\n\n
ATTACH;FMTTYPE=image/jpeg:https://awocademy.de/wp-content/uploads/2025/10/
 Kerzen-Trauer-e1761118102814.jpg
CATEGORIES:Pädagogik
END:VEVENT
END:VCALENDAR