BEGIN:VCALENDAR
VERSION:2.0
PRODID:-//wp-events-plugin.com//7.2.3.1//EN
BEGIN:VEVENT
UID:88@awocademy.de
DTSTART:20260820T120000Z
DTEND:20260820T140000Z
DTSTAMP:20251022T065650Z
URL:https://awocademy.de/veranstaltung/sicher-und-selbstbewusst-auftreten-
 gegenueber-eltern-4-termine/
SUMMARY:Sicher und selbstbewusst Auftreten gegenüber Eltern (4 Termine)
DESCRIPTION:\n\nFür alle pädagogischen Fachkräfte\, die ihre Elternarbei
 t professionell und selbstsicher gestalten möchten.\n\n&nbsp\;\n\nDer Umg
 ang mit Eltern ist ein wichtiger Teil der pädagogischen Arbeit – oft ab
 er auch herausfordernd. In diesem Workshop lernen Sie\, wie Sie Ihre Anlie
 gen klar und wertschätzend kommunizieren\, auch in schwierigen Gespräche
 n souverän bleiben und gleichzeitig eine vertrauensvolle Beziehung gestal
 ten können.\n\n\n\n\n\nMit praxisnahen Übungen stärken Sie Ihre Kommuni
 kations- und Gesprächskompetenzen\, um sicher und selbstbewusst aufzutret
 en – für mehr Klarheit und Gelassenheit im Austausch mit Eltern.\n\n\n\
 n\n&nbsp\;\n\n\n\n\n\n\nWorkshop Nr. : AC-2026-023\n\n\n\n\n\n\nDo. 20.08.
 2026\, 14.00 -16.00 Uhr\n\n\n\n\nWeitere Termine: Donnerstags\; 27.08.\; 0
 3.09.\; 10.09.\n\n\n\n\n\n\nMitGefühl - Coaching\n\n\n\n\n\n\n145\,00€\
 n\n\n\n\n\n\n20 Freie Plätze\n\n\n\n\n\n\nAnmeldung bis: Do. 06.08.2026\n
 \n\n\n\n\n\nAWO Kita Klangkinder\n\n\n\n\nAm Bahnhof 4\, 38300 Wolfenbütt
 el\n\n\n
ATTACH;FMTTYPE=image/jpeg:https://awocademy.de/wp-content/uploads/2025/10/
 Kind-Selbstbewusst-e1760523568291.jpg
CATEGORIES:Haltung &amp; Kommunikation
END:VEVENT
END:VCALENDAR