BEGIN:VCALENDAR
VERSION:2.0
PRODID:-//wp-events-plugin.com//7.2.3.1//EN
BEGIN:VEVENT
UID:97@awocademy.de
DTSTART:20261104T130000Z
DTEND:20261104T160000Z
DTSTAMP:20251022T070808Z
URL:https://awocademy.de/veranstaltung/sexuelle-belaestigung-am-arbeitspla
 tz-was-fuehrungskraefte-wissen-sollten/
SUMMARY:Sexuelle Belästigung am Arbeitsplatz - Was Führungskräfte wissen
  sollten
DESCRIPTION:Für Führungskräfte\, die Verantwortung übernehmen und ihre 
 Rolle bei der Prävention und Intervention stärken möchten.\n\n&nbsp\;\n
 \n\n\nSexuelle Belästigung ist ein ernstes Thema\, das in jedem Arbeitsum
 feld klare Aufmerksamkeit und Handlungsfähigkeit erfordert. Dieser Worksh
 op richtet sich speziell an Führungskräfte und vermittelt fundiertes Wis
 sen zu Prävention\, rechtlichen Rahmenbedingungen und angemessenem Verhal
 ten im Ernstfall.\n\n\n\n\nSie lernen\, wie Sie ein sicheres und respektvo
 lles Arbeitsklima fördern\, Beschwerden professionell begegnen und präve
 ntive Maßnahmen im Team etablieren können.\n\n\n\n\n&nbsp\;\n\n\n\n\n\n\
 nWorkshop Nr. : AC-2026-32\n\n\n\n\n\n\nMi. 04.11.2026\, 15.00 -18.00 Uhr\
 n\n\n\n\n\n\nBianca Pillai\n\n\n\n\n\n\n55\,00€\n\n\n\n\n\n\n20 Freie Pl
 ätze\n\n\n\n\n\n\nAnmeldung bis: Mi. 21.10.2026\n\n\n\n\n\n\nAWO Kita am 
 See\n\n\n\n\nUlmenried 6-8\, 38226 Salzgitter\n\n\n
ATTACH;FMTTYPE=image/jpeg:https://awocademy.de/wp-content/uploads/2025/10/
 Belaestigung-Stop-e1761116877980.jpg
CATEGORIES:Haltung &amp; Kommunikation
END:VEVENT
END:VCALENDAR