BEGIN:VCALENDAR
VERSION:2.0
PRODID:-//wp-events-plugin.com//7.2.3.1//EN
BEGIN:VEVENT
UID:102@awocademy.de
DTSTART:20261126T120000Z
DTEND:20261126T140000Z
DTSTAMP:20251022T073314Z
URL:https://awocademy.de/veranstaltung/selbstfuersorge-im-alltag/
SUMMARY:Selbstfürsorge im Alltag
DESCRIPTION:\n\nFür alle\, die sich stärken und ihre Ressourcen bewusst p
 flegen möchten.\n\n&nbsp\;\n\n\n\n\n\nDer Berufsalltag in der Kita kann h
 erausfordernd und fordernd sein. Um dauerhaft gesund und motiviert zu blei
 ben\, ist es wichtig\, auf sich selbst zu achten.\n\n\n\n\nIn diesem Works
 hop lernen Sie einfache und wirksame Strategien kennen\, um im Alltag klei
 ne Pausen einzubauen\, Stress abzubauen und neue Energie zu tanken. Gemein
 sam entdecken wir Wege\, wie Selbstfürsorge ganz selbstverständlich Teil
  Ihres Tages werden kann.\n\n\n\n\n&nbsp\;\n\n\n\n\n\n\nWorkshop Nr. : AC-
 2026-37\n\n\n\n\n\n\nDo. 26.11.2026\, 14.00 -16.00 Uhr\n\n\n\n\n\n\nMitGef
 ühl - Coaching\n\n\n\n\n\n\n35\,00€\n\n\n\n\n\n\n20 Freie Plätze\n\n\n
 \n\n\n\nAnmeldung bis: Do. 12.11.2026\n\n\n\n\n\n\nAWISTA\n\n\n\n\nKurt-Sc
 humacher-Ring 4\, 38228 Salzgitter\n\n\n
ATTACH;FMTTYPE=image/jpeg:https://awocademy.de/wp-content/uploads/2025/10/
 Selbstfuersorge-e1761118375599.jpg
CATEGORIES:Psychologie
END:VEVENT
END:VCALENDAR