BEGIN:VCALENDAR
VERSION:2.0
PRODID:-//wp-events-plugin.com//7.2.3.1//EN
BEGIN:VEVENT
UID:82@awocademy.de
DTSTART:20260521T010000Z
DTEND:20260521T033000Z
DTSTAMP:20251022T065308Z
URL:https://awocademy.de/veranstaltung/paedagogische-raumgestaltung-2/
SUMMARY:Pädagogische Raumgestaltung
DESCRIPTION:\n\nFür alle\, die ihre Räume bewusster gestalten und das pä
 dagogische Potenzial von Umgebung neu entdecken möchten.\n\n&nbsp\;\n\nR
 äume wirken – sie können anregen\, beruhigen\, herausfordern oder Gebo
 rgenheit vermitteln. In diesem Workshop gehen wir der Frage nach\, wie pä
 dagogische Räume gestaltet sein müssen\, damit sie Entwicklung\, Selbsts
 tändigkeit und gemeinsames Lernen optimal unterstützen.\n\n\n\n\n\nGemei
 nsam schauen wir auf Grundprinzipien der Raumgestaltung\, reflektieren bes
 tehende Strukturen und entwickeln Ideen für die eigene Praxis. Dabei steh
 t im Mittelpunkt: Was brauchen Kinder – und wie kann der Raum diese Bed
 ürfnisse sichtbar und spürbar aufgreifen?\n\n\n\n\n&nbsp\;\n\n\n\n\n\n\n
 Workshop Nr. : AC-2026-17\n\n\n\n\n\n\nDo. 21.05.2026\, 15.00 -17.30 Uhr\n
 \n\n\n\n\n\nHeike Diep - Sozialpädagogin\n\n\n\n\n\n\n25\,00€\n\n\n\n\n
 \n\n20 Freie Plätze\n\n\n\n\n\n\nAnmeldung bis: Do. 07.05.2026\n\n\n\n\n\
 n\nAWO Kita am See\n\n\n\n\nUlmenried 6-8\, 38226 Salzgitter\n\n\n\n\n\n&n
 bsp\;\n\n
ATTACH;FMTTYPE=image/jpeg:https://awocademy.de/wp-content/uploads/2025/10/
 Raumgestaltung-e1760520288599.jpg
CATEGORIES:Pädagogik
END:VEVENT
END:VCALENDAR