BEGIN:VCALENDAR
VERSION:2.0
PRODID:-//wp-events-plugin.com//7.2.3.1//EN
BEGIN:VEVENT
UID:86@awocademy.de
DTSTART:20260625T130000Z
DTEND:20260625T153000Z
DTSTAMP:20251015T140054Z
URL:https://awocademy.de/veranstaltung/morgenkreis-wichtiges-paedagogische
 s-mittel/
SUMMARY:Morgenkreis - Wichtiges pädagogisches Mittel
DESCRIPTION:\n\n\nFür alle pädagogischen Fachkräfte\, die den Morgenkrei
 s als wertvolles Element ihrer Arbeit nutzen möchten.\n\nDer Morgenkreis 
 ist weit mehr als nur ein Start in den Tag – er schafft Raum für Begegn
 ung\, Rituale und eine vertrauensvolle Atmosphäre. In diesem Workshop erf
 ahren Sie\, wie der Morgenkreis gezielt als pädagogisches Instrument eing
 esetzt werden kann\, um soziale Kompetenzen zu stärken\, den Tag struktur
 iert zu beginnen und die Kinder in ihrer Entwicklung zu begleiten.\n\n\n\n
 \nWir tauschen uns über bewährte Methoden aus\, reflektieren die Gestalt
 ungsmöglichkeiten und entwickeln gemeinsam Ideen für den eigenen Kita-Al
 ltag.\n\n\n\n\n\n\nWorkshop Nr. : AC-2026-21\n\n\n\n\n\n\nDo. 25.06.2026\,
  15.00 -17.30 Uhr\n\n\n\n\n\n\nSteffi Rosen - Heilpädagogin\n\n\n\n\n\n\n
 25\,00€\n\n\n\n\n\n\n20 Freie Plätze\n\n\n\n\n\n\nAnmeldung bis: Do. 11
 .06.2025\n\n\n\n\n\n\nAWISTA\n\n\n\n\nKurt-Schumacher-Ring 4\, 38228 Salzg
 itter\n\n\n
ATTACH;FMTTYPE=image/jpeg:https://awocademy.de/wp-content/uploads/2025/10/
 Morgenkreis-e1760523029958.jpg
CATEGORIES:Methoden
END:VEVENT
END:VCALENDAR