BEGIN:VCALENDAR
VERSION:2.0
PRODID:-//wp-events-plugin.com//7.2.3.1//EN
BEGIN:VEVENT
UID:94@awocademy.de
DTSTART:20261008T120000Z
DTEND:20261008T143000Z
DTSTAMP:20251015T134615Z
URL:https://awocademy.de/veranstaltung/kommunikation-koerpersprache-spanne
 nde-tipps-fuer-den-alltag/
SUMMARY:Kommunikation & Körpersprache - spannende Tipps für den Alltag
DESCRIPTION:\n\n\nFür alle\, die ihre Kommunikation authentisch und wirkun
 gsvoll gestalten möchten.\n\n&nbsp\;\n\nWie wir sprechen\, wirkt oft durc
 h Worte – und noch viel mehr durch unsere Körpersprache. In diesem Work
 shop entdecken Sie\, wie Sie Ihre nonverbale Kommunikation bewusst einsetz
 en können\, um Gespräche im Alltag leichter und klarer zu gestalten.\n\n
 \n\n\nMit praktischen Tipps und Übungen stärken Sie Ihre Wirkung\, erken
 nen Körpersignale bei anderen besser und verbessern so den Austausch im T
 eam\, mit Kindern und Eltern.\n\n\n\n\n&nbsp\;\n\n\n\n\n\n\nWorkshop Nr. :
  AC-2026-29\n\n\n\n\n\n\nDo. 08.10.2026\, 14.00 -16.30 Uhr\n\n\n\n\n\n\nMi
 tGefühl - Coaching\n\n\n\n\n\n\n40\,00€\n\n\n\n\n\n\n20 Freie Plätze\n
 \n\n\n\n\n\nAnmeldung bis: Do. 24.09.2026\n\n\n\n\n\n\nAWO Kita Fredenberg
 -West\n\n\n\n\nElisabeth-Selbert-Ring 26\, 38228 Salzgitter\n\n\n
ATTACH;FMTTYPE=image/jpeg:https://awocademy.de/wp-content/uploads/2025/10/
 OK-Kommunikation-e1760533337850.jpg
CATEGORIES:Haltung &amp; Kommunikation
END:VEVENT
END:VCALENDAR