BEGIN:VCALENDAR
VERSION:2.0
PRODID:-//wp-events-plugin.com//7.2.3.1//EN
BEGIN:VEVENT
UID:103@awocademy.de
DTSTART:20261208T123000Z
DTEND:20261208T153000Z
DTSTAMP:20251022T073645Z
URL:https://awocademy.de/veranstaltung/kollegiale-beratung/
SUMMARY:Kollegiale Beratung
DESCRIPTION:\n\nFür alle\, die Austausch und neue Perspektiven suchen.\n\n
 &nbsp\;\n\n\n\n\n\nEgal\, ob Fallbesprechungen\, komplexe Probleme oder de
 r simple Wunsch etwas zu verändern\, die Methode der kollegialen Beratung
  eignet sich hervorragend ein Thema aus vielen Perspektiven zu beleuchten 
 und eine Vielzahl an Lösungsideen zu entwickeln. Unter der Leitung von An
 gela geht das locker flockig und ohne lange Diskussionen. Ganz nebenbei er
 fahren Einzelkämpfer:innen zu dem Rückenstärkende Solidarität und viel
  Inspiration\, da alle mit ähnlichen Themen zu tun haben.\n\n\n\n\n&nbsp\
 ;\n\n\n\n\n\n\nWorkshop Nr. : AC-2026-38\n\n\n\n\n\n\nDi. 08.12.2026\, 14.
 30 -17.30 Uhr\n\n\n\n\n\n\nAngela Plentz - Supervisorin &amp\; Mediatorin\
 n\n\n\n\n\n\n45\,00€\n\n\n\n\n\n\n20 Freie Plätze\n\n\n\n\n\n\nAnmeldun
 g bis: Di. 24.11.2026\n\n\n\n\n\n\nAWO Okerknirpse\n\n\n\n\nIn den Schöne
 n Morgen 12\, 38300 Wolfenbüttel\n\n\n
ATTACH;FMTTYPE=image/jpeg:https://awocademy.de/wp-content/uploads/2025/10/
 Stuehle-Beratung-e1760521417172.jpg
CATEGORIES:Methoden
END:VEVENT
END:VCALENDAR