BEGIN:VCALENDAR
VERSION:2.0
PRODID:-//wp-events-plugin.com//7.2.3.1//EN
BEGIN:VEVENT
UID:84@awocademy.de
DTSTART:20260611T123000Z
DTEND:20260611T153000Z
DTSTAMP:20251022T065451Z
URL:https://awocademy.de/veranstaltung/kollegiale-beratung-fuer-leitungen/
SUMMARY:Kollegiale Beratung für Leitungen
DESCRIPTION:\n\n\nFür alle\, die Austausch und neue Perspektiven suchen.\n
 \n&nbsp\;\n\nEgal\, ob Fallbesprechungen\, komplexe Probleme oder der simp
 le Wunsch etwas zu verändern\, die Methode der kollegialen Beratung eigne
 t sich hervorragend ein Thema aus vielen Perspektiven zu beleuchten und ei
 ne Vielzahl an Lösungsideen zu entwickeln. Unter der Leitung von Angela g
 eht das locker flockig und ohne lange Diskussionen. Ganz nebenbei erfahren
  Einzelkämpfer:innen zudem Rücken stärkende Solidarität und viel Inspi
 ration\, da alle mit ähnlichen Themen zu tun haben.\n\n\n\n\n&nbsp\;\n\n\
 n\n\n\n\nWorkshop Nr. : AC-2026-19\n\n\n\n\n\n\nDo. 11.06.2026\, 14.30 -17
 .30 Uhr\n\n\n\n\n\n\nAngela Plentz - Supervisorin &amp\; Mediatorin\n\n\n\
 n\n\n\n43\,00€\n\n\n\n\n\n\n20 Freie Plätze\n\n\n\n\n\n\nAnmeldung bis:
  Do. 28.05.2026\n\n\n\n\n\n\nAWO Kita am See\n\n\n\n\nUlmenried 6-8\, 3822
 6 Salzgitter\n\n\n
ATTACH;FMTTYPE=image/jpeg:https://awocademy.de/wp-content/uploads/2025/10/
 Stuehle-Beratung-e1760521417172.jpg
CATEGORIES:Methoden
END:VEVENT
END:VCALENDAR