BEGIN:VCALENDAR
VERSION:2.0
PRODID:-//wp-events-plugin.com//7.2.3.1//EN
BEGIN:VEVENT
UID:59@awocademy.de
DTSTART:20260423T170000Z
DTEND:20260423T183000Z
DTSTAMP:20250902T093616Z
URL:https://awocademy.de/veranstaltung/kleine-menschen-grosse-gefuehle/
SUMMARY:„Kleine Menschen – große Gefühle“
DESCRIPTION:Gefühle gehören zum Alltag – mal lachen Kinder\, mal weinen
  sie\, manchmal kommt ein Wutanfall aus heiterem Himmel. In diesem Worksho
 p möchten wir gemeinsam verstehen\, wie Kinder ihre Gefühle ausdrücken 
 und was hinter starken Emotionen steckt. Wir besprechen\, wie Sie liebevol
 l\, sicher und klar reagieren können\, um Ihre Kinder in ihrer emotionale
 n Entwicklung zu begleiten. Ziel ist es\, praktische Tipps zu erhalten\, d
 ie den Familienalltag entspannen und den Umgang mit großen Gefühlen erle
 ichtern. Der Einladungslink wird zwei Tage vorher an die angegebene Mailad
 resse versandt. Diese Veranstaltung ist für AWO Mitglieder kostenlos.
ATTACH;FMTTYPE=image/jpeg:https://awocademy.de/wp-content/uploads/2025/09/
 Design-ohne-Titel-1-e1756805682915.jpg
CATEGORIES:Elternwerkstatt
END:VEVENT
END:VCALENDAR