BEGIN:VCALENDAR
VERSION:2.0
PRODID:-//wp-events-plugin.com//7.2.3.1//EN
BEGIN:VEVENT
UID:104@awocademy.de
DTSTART:20261209T130000Z
DTEND:20261209T153000Z
DTSTAMP:20260127T100430Z
URL:https://awocademy.de/veranstaltung/kinder-in-bewegung/
SUMMARY:Kinder in Bewegung
DESCRIPTION:\n\nFür alle\, die Kinder in ihrer Bewegung fördern und motiv
 ieren möchten.\n\n&nbsp\;\n\n\n\n\nBewegung ist ein Grundbedürfnis und e
 in zentraler Baustein für die Entwicklung von Kindern. Bewegungsräume m
 üssen dabei allen Kindern zur Verfügung stehen um eine breite Entwicklun
 g zur ermöglichen. Welchen Nutzen haben das Lenken und Begleiten von Bewe
 gungsimpulsen für die pädagogischen Fachkräfte und für die Kinder? Fü
 r welche Kinder öffne ich Bewegungsräume? Wie unterschiedlich bewegen si
 ch Jungen und Mädchen wirklich?\nAuch werden wir uns mit der praktischen 
 Nutzung von Fluren und Außengeländen als Bewegungsräume auseinandersetz
 en.\nAufgrund eurer vielfältigen Erfahrungen könnt ihr euch zielorientie
 rt in die Diskussion einbringen. Deshalb möchte ich mit euch die zuvor ge
 nannten Fragestellungen gemeinsam erörtern und bearbeiten. Bringt bitte 
 Fotos mit Ideen von euren Außengeländen\, Fluren und sonstigen Bewegungs
 räumen mit.\n\n\n\n&nbsp\;\n\n\n\n\n\n\nWorkshop Nr. : AC-2026-39\n\n\n\n
 \n\n\nMi. 09.12.2026\, 15.00 -17.30 Uhr\n\n\n\n\n\n\nKai Wroblewitz\n\n\n\
 n\n\n\n40\,00€\n\n\n\n\n\n\n20 Freie Plätze\n\n\n\n\n\n\nAnmeldung bis:
  Mi. 25.11.2026\n\n\n\n\n\n\nAWO Kita Adalbert-Stifter-Straße\n\n\n\n\nAd
 albert-Stifter-Straße 81\, 38239 Salzgitter/Thiede\n\n\n
ATTACH;FMTTYPE=image/jpeg:https://awocademy.de/wp-content/uploads/2025/10/
 Kinder-Bewegung-e1761118782573.jpg
CATEGORIES:Pädagogik
END:VEVENT
END:VCALENDAR