BEGIN:VCALENDAR
VERSION:2.0
PRODID:-//wp-events-plugin.com//7.2.3.1//EN
BEGIN:VEVENT
UID:83@awocademy.de
DTSTART:20260603T130000Z
DTEND:20260603T160000Z
DTSTAMP:20251022T065354Z
URL:https://awocademy.de/veranstaltung/geschlechterrollen-und-paedagogik-2
 -termine/
SUMMARY:Geschlechterrollen und Pädagogik (2 Termine)
DESCRIPTION:\n\n\nFür alle\, die nicht in Klischees und Rollenbilder verfa
 llen wollen.\n\n&nbsp\;\n\nDer Kurs richtet sich an pädagogische Fachkrä
 fte in Kindertagesstätten und Wohngruppen. Ziel des Kurses ist eine Einf
 ührung in eine Gendersensible Pädagogik und das Verstehen von Gemeinsamk
 eiten und Unterschieden der Geschlechter. Zudem werden wissenschaftsbasier
 te Erkenntnisse zur (epi-) genetischen Vererbung von Geschlechtsmerkmalen 
 mit vorherrschenden Rollenbildern abgeglichen. Wir schaffen eine Sensibili
 sierung für geschlechtsspezifische Glaubenssätze\, sowie pädagogisches 
 Handeln und finden heraus\, warum "Gender- Gaga" zum Kinderschutz gehört.
 \n\n\n\n\n&nbsp\;\n\n\n\n\n\n\nWorkshop Nr. : AC-2026-18\n\n\n\n\n\n\nMi. 
 03.06.2026\, 15.00 -18.00 Uhr\n\n\n\n\nWeitere Termine: Mi. 10.06.\n\n\n\n
 \n\n\nBianca Pillai\n\n\n\n\n\n\n100\,00€\n\n\n\n\n\n\n20 Freie Plätze\
 n\n\n\n\n\n\nAnmeldung bis: 20. 21.02.2025\n\n\n\n\n\n\nAWO Kita Wilhelm-K
 unze-Ring\n\n\n\n\nWilhelm-Kunze-Ring 37\, 38226 Salzgitter\n\n\n
ATTACH;FMTTYPE=image/jpeg:https://awocademy.de/wp-content/uploads/2025/10/
 Genderwuerfel-e1760520754914.jpg
CATEGORIES:Haltung &amp; Kommunikation
END:VEVENT
END:VCALENDAR