BEGIN:VCALENDAR
VERSION:2.0
PRODID:-//wp-events-plugin.com//7.2.3.1//EN
BEGIN:VEVENT
UID:87@awocademy.de
DTSTART:20260819T133000Z
DTEND:20260819T160000Z
DTSTAMP:20251022T065552Z
URL:https://awocademy.de/veranstaltung/excel-wissen-vertiefen/
SUMMARY:Excel - Wissen vertiefen
DESCRIPTION:\n\n\nFür alle\, die mit Excel sicherer und flexibler arbeiten
  möchten.\n\n&nbsp\;\n\nSie nutzen Excel bereits im Arbeitsalltag\, kenne
 n die Grundlagen – und möchten jetzt einen Schritt weitergehen? In dies
 em Aufbau-Seminar vertiefen Sie Ihr Wissen und entdecken neue Funktionen\,
  mit denen Sie Tabellen noch effizienter\, übersichtlicher und profession
 eller gestalten können. Wir schauen uns gemeinsam komplexere Formeln und 
 Funktionen an\, üben den Umgang mit größeren Datenmengen\, arbeiten mit
  Verknüpfungen\, Filtern und werfen einen Blick auf hilfreiche Werkzeuge 
 zur Datenanalyse. Auch das Thema Diagramme und die optische Aufbereitung v
 on Inhalten kommen nicht zu kurz.\n\n\n\n\nBitte einen eigenen Laptop mit 
 Excel mitbringen.\n\n&nbsp\;\n\n\n\n\n\n\nWorkshop Nr. : AC-2026-22\n\n\n\
 n\n\n\nMi. 19.08.2026\, 15.30 -18.00 Uhr\n\n\n\n\n\n\nNicolai Ulrichs - Ch
 ange Manager\n\n\n\n\n\n\n45\,00€\n\n\n\n\n\n\n12 Freie Plätze\n\n\n\n\
 n\n\nAnmeldung bis: Mi. 05.08.2026\n\n\n\n\n\n\nGeschäftsstelle AWO SZ-WF
 \n\n\n\n\nNeißestraße 16\, 38226 Salzgitter\n\n\n
ATTACH;FMTTYPE=image/jpeg:https://awocademy.de/wp-content/uploads/2025/10/
 Excel-2.0-e1760523305204.jpg
CATEGORIES:Methoden
END:VEVENT
END:VCALENDAR