BEGIN:VCALENDAR
VERSION:2.0
PRODID:-//wp-events-plugin.com//7.2.3.1//EN
BEGIN:VEVENT
UID:61@awocademy.de
DTSTART:20261112T170000Z
DTEND:20261112T183000Z
DTSTAMP:20250902T094329Z
URL:https://awocademy.de/veranstaltung/digitale-kindheit-medien-sinnvoll-b
 egleiten/
SUMMARY:Digitale Kindheit – Medien sinnvoll begleiten
DESCRIPTION:Digitale Medien sind aus dem Alltag von Kindern nicht mehr wegz
 udenken – Fernsehen\, Tablets\, Apps und Spiele gehören längst dazu. I
 n diesem Workshop schauen wir gemeinsam\, wie Kinder Medien nutzen und wel
 che Chancen\, aber auch Risiken damit verbunden sind. Sie erfahren\, wie S
 ie als Eltern Medieninhalte altersgerecht begleiten\, klare Regeln setzen 
 und gleichzeitig die Selbstständigkeit und Kreativität Ihrer Kinder för
 dern können. Ziel ist es\, praxisnahe Tipps mitzunehmen\, die den Umgang 
 mit digitalen Medien im Familienalltag sicherer und entspannter machen. De
 r Einladungslink wird zwei Tage vorher an die angegebene Mailadresse versa
 ndt. Diese Veranstaltung ist für AWO Mitglieder kostenlos.
ATTACH;FMTTYPE=image/jpeg:https://awocademy.de/wp-content/uploads/2025/09/
 Design-ohne-Titel-3-e1756806129964.jpg
CATEGORIES:Elternwerkstatt
END:VEVENT
END:VCALENDAR