BEGIN:VCALENDAR
VERSION:2.0
PRODID:-//wp-events-plugin.com//7.2.3.1//EN
BEGIN:VEVENT
UID:98@awocademy.de
DTSTART:20261111T130000Z
DTEND:20261111T150000Z
DTSTAMP:20251022T071658Z
URL:https://awocademy.de/veranstaltung/db-methoden-fuer-leitungen/
SUMMARY:DB-Methoden für Leitungen
DESCRIPTION:Für Leitungskräfte\, die ihre Besprechungen professionell ges
 talten und die Teamkommunikation fördern möchten.\n\n&nbsp\;\n\n\n\nAls 
 Leitung sind Dienstbesprechungen ein wichtiger Raum für Information\, Aus
 tausch und Teamentwicklung. Damit diese Zeit wirklich wirkt\, braucht es k
 lare Strukturen und wirksame Methoden.\n\n\n\n\nIn diesem Workshop lernen 
 Sie verschiedene Moderations- und Gesprächstechniken kennen\, mit denen S
 ie Besprechungen zielorientiert\, partizipativ und motivierend gestalten k
 önnen. Sie erhalten praktische Werkzeuge\, um die Zusammenarbeit im Team 
 zu stärken und Besprechungen effizient zu führen.\n\n\n\n\n&nbsp\;\n\n\n
 \n\n\n\nWorkshop Nr. : AC-2026-33\n\n\n\n\n\n\nMi. 11.11.2026\, 15.00 -17.
 00 Uhr\n\n\n\n\n\n\nFranziska Maske\n\n\n\n\n\n\n25\,00€\n\n\n\n\n\n\n20
  Freie Plätze\n\n\n\n\n\n\nAnmeldung bis: Mi. 28.10.2026\n\n\n\n\n\n\nAWO
  Okerknirpse\n\n\n\n\nIn den Schönen Morgen 12\, 38300 Wolfenbüttel\n\n\
 n
ATTACH;FMTTYPE=image/jpeg:https://awocademy.de/wp-content/uploads/2025/10/
 Arbeitsgruppe-e1761117109936.jpg
END:VEVENT
END:VCALENDAR