BEGIN:VCALENDAR
VERSION:2.0
PRODID:-//wp-events-plugin.com//7.2.3.1//EN
BEGIN:VEVENT
UID:99@awocademy.de
DTSTART:20261117T130000Z
DTEND:20261117T153000Z
DTSTAMP:20251022T072110Z
URL:https://awocademy.de/veranstaltung/computerkurs/
SUMMARY:Computerkurs
DESCRIPTION:\n\nFür alle\, die sich mehr Sicherheit am Computer wünschen 
 – ganz egal\, ob im Beruf oder privat.\n\n&nbsp\;\n\n\n\n\n\nSie möchte
 n den Computer sicherer bedienen\, Programme besser verstehen und sich im 
 digitalen Alltag zurechtfinden? Dann ist dieser Kurs genau richtig für Si
 e!\n\n\n\n\nIn kleinen\, leicht verständlichen Schritten lernen Sie die G
 rundlagen: vom Umgang mit Tastatur und Maus über das Schreiben von Texten
  bis hin zur Internetnutzung und E-Mail. Auch für Fragen ist ausreichend 
 Zeit – ganz ohne Druck.\n\n\n\n\nVorkenntnisse sind nicht erforderlich. 
 Bitte eigenen Laptop mitbringen.\n\n&nbsp\;\n\n\n\n\n\n\nWorkshop Nr. : AC
 -2026-34\n\n\n\n\n\n\nDi. 17.11.2026\, 15.00 -17.30 Uhr\n\n\n\n\n\n\nFrith
 jof Tegtmeier - Medienpädagoge\n\n\n\n\n\n\n25\,00€\n\n\n\n\n\n\n20 Fre
 ie Plätze\n\n\n\n\n\n\nAnmeldung bis: Di. 03.11.2026\n\n\n\n\n\n\nGeschä
 ftsstelle AWO SZ-WF\n\n\n\n\nNeißestraße 16\, 38226 Salzgitter\n\n\n
ATTACH;FMTTYPE=image/jpeg:https://awocademy.de/wp-content/uploads/2025/10/
 Computer-2.0-e1761117637855.jpg
CATEGORIES:Methoden
END:VEVENT
END:VCALENDAR