BEGIN:VCALENDAR
VERSION:2.0
PRODID:-//wp-events-plugin.com//7.2.3.1//EN
BEGIN:VEVENT
UID:79@awocademy.de
DTSTART:20260423T130000Z
DTEND:20260423T153000Z
DTSTAMP:20251022T062753Z
URL:https://awocademy.de/veranstaltung/computerkurs-einsteiger/
SUMMARY:Computerkurs (Einsteiger)
DESCRIPTION:\n\nFür alle\, die sich mehr Sicherheit am Computer wünschen 
 – ganz egal\, ob im Beruf oder privat.\n\n&nbsp\;\n\nSie möchten den Co
 mputer sicherer bedienen\, Programme besser verstehen und sich im digitale
 n Alltag zurechtfinden? Dann ist dieser Kurs genau richtig für Sie!\n\n\n
 \n\n\nIn kleinen\, leicht verständlichen Schritten lernen Sie die Grundla
 gen: vom Umgang mit Tastatur und Maus über das Schreiben von Texten bis h
 in zur Internetnutzung und E-Mail. Auch für Fragen ist ausreichend Zeit 
 – ganz ohne Druck.\n\n\n\n\nVorkenntnisse sind nicht erforderlich. Neugi
 er genügt!\n\nBitte eigenen Laptop mitbringen.\n\n\n\n\n\n\nWorkshop Nr. 
 : AC-2026-14\n\n\n\n\n\n\nDo. 23.04.2026\, 15.00 -17.30 Uhr\n\n\n\n\n\n\nF
 rithjof Tegtmeier - Medienpädagoge\n\n\n\n\n\n\n25\,00€\n\n\n\n\n\n\n12
  Freie Plätze\n\n\n\n\n\n\nAnmeldung bis: Do. 09.04.2026\n\n\n\n\n\n\nGes
 chäftsstelle AWO SZ-WF\n\n\n\n\nNeißestraße 16\, 38226 Salzgitter\n\n\n
ATTACH;FMTTYPE=image/jpeg:https://awocademy.de/wp-content/uploads/2025/10/
 Computer-e1760518029186.jpg
CATEGORIES:Methoden
END:VEVENT
END:VCALENDAR