BEGIN:VCALENDAR
VERSION:2.0
PRODID:-//wp-events-plugin.com//7.2.3.1//EN
BEGIN:VEVENT
UID:90@awocademy.de
DTSTART:20260916T130000Z
DTEND:20260916T153000Z
DTSTAMP:20251022T065758Z
URL:https://awocademy.de/veranstaltung/changemanagement-in-der-kita-fuer-l
 eitungen/
SUMMARY:Changemanagement in der Kita - für Leitungen
DESCRIPTION:\n\n\nFür alle\, die Veränderung als Chance begreifen und akt
 iv gestalten möchten.\n\n&nbsp\;\n\nVeränderungen gehören zum Kita-Allt
 ag – sei es bei organisatorischen Abläufen\, pädagogischen Konzepten o
 der im Team. Doch Veränderungen bringen oft Unsicherheiten und Herausford
 erungen mit sich.\n\n\n\n\nIn diesem Workshop lernen Sie\, wie Sie Veränd
 erungsprozesse aktiv und konstruktiv begleiten können. Sie erhalten praxi
 snahe Werkzeuge\, um Ihr Team zu stärken\, Widerstände zu verstehen und 
 gemeinsam Lösungen zu entwickeln.\n\n&nbsp\;\n\n\n\n\n\n\nWorkshop Nr. : 
 AC-2026-25\n\n\n\n\n\n\nMi. 16.09.2026\, 15.00 -17.30 Uhr\n\n\n\n\n\n\nHei
 ke Diep - Sozialpädagogin\n\n\n\n\n\n\n25\,00€\n\n\n\n\n\n\n20 Freie Pl
 ätze\n\n\n\n\n\n\nAnmeldung bis: Mi. 02.09.2026\n\n\n\n\n\n\nGeschäftsst
 elle AWO SZ-WF\n\n\n\n\nNeißestraße 16\, 38226 Salzgitter\n\n\n
ATTACH;FMTTYPE=image/jpeg:https://awocademy.de/wp-content/uploads/2025/10/
 Changemanagement-Ei-e1760525410372.jpg
CATEGORIES:Haltung &amp; Kommunikation
END:VEVENT
END:VCALENDAR