BEGIN:VCALENDAR
VERSION:2.0
PRODID:-//wp-events-plugin.com//7.2.3.1//EN
BEGIN:VEVENT
UID:95@awocademy.de
DTSTART:20261014T130000Z
DTEND:20261014T143000Z
DTSTAMP:20251022T070016Z
URL:https://awocademy.de/veranstaltung/canva/
SUMMARY:Canva
DESCRIPTION:\n\n\nFür alle\, die kreativ werden und Canva sicher im Berufs
 alltag oder privat nutzen möchten.\n\n&nbsp\;\n\nOb Aushänge\, Elternbri
 efe\, Flyer oder Social-Media-Beiträge – mit Canva lassen sich im Handu
 mdrehen ansprechende Designs erstellen\, ganz ohne Grafik-Vorkenntnisse.\n
 \n\n\n\nIn diesem Workshop lernen Sie die Grundlagen von Canva kennen: Wie
  funktioniert die Plattform? Wie erstelle ich eigene Vorlagen? Welche Gest
 altungstipps helfen\, damit Inhalte klar und schön wirken?\n\n\n\n\nGemei
 nsam probieren wir erste Designs aus und erkunden die Möglichkeiten – p
 raxisnah\, kreativ und leicht verständlich.\n\n\n\n\nVorkenntnisse sind n
 icht notwendig – Neugier und Spaß am Gestalten genügen! Bitte eigenen 
 Laptop mitbringen.\n\n&nbsp\;\n\n\n\n\n\n\nWorkshop Nr. : AC-2026-30\n\n\n
 \n\n\n\nDo. 14.10.2026\, 15.00 -16.30 Uhr\n\n\n\n\n\n\nFranziska Maske\n\n
 \n\n\n\n\n15\,00€\n\n\n\n\n\n\n12 Freie Plätze\n\n\n\n\n\n\nAnmeldung b
 is: Do. 01.10.2026\n\n\n\n\n\n\nAWO Kita Klangkinder\n\n\n\n\nAm Bahnhof 4
 \, 38300 Wolfenbüttel\n\n\n
ATTACH;FMTTYPE=image/jpeg:https://awocademy.de/wp-content/uploads/2025/10/
 Bunt-Canva-e1760533745876.jpg
CATEGORIES:Methoden
END:VEVENT
END:VCALENDAR