BEGIN:VCALENDAR
VERSION:2.0
PRODID:-//wp-events-plugin.com//7.2.3.1//EN
BEGIN:VEVENT
UID:96@awocademy.de
DTSTART:20261021T130000Z
DTEND:20261021T160000Z
DTSTAMP:20251022T070300Z
URL:https://awocademy.de/veranstaltung/bedeutung-des-spiels-2/
SUMMARY:Bedeutung des Spiels
DESCRIPTION:\n\n\nFür alle\, die das kindliche Spiel verstehen und deren B
 edeutung kennen möchten!\n\n&nbsp\;\n\nDer Workshop widmet sich der Erfor
 schung und Analyse der Rolle\, die Spiele in verschiedenen Aspekten der ki
 ndlichen Entwicklung spielen. Teilnehmer:innen haben die Möglichkeit\, di
 e Bedeutung von Spielen in Bildung\, Sozialisation\, Gesundheit und Kultur
  zu untersuchen. Durch Diskussionen und praktische Übungen werden die Tei
 lnehmer:innen dazu angeregt\, die vielfältigen Auswirkungen von Spielen a
 uf individuelle und gesellschaftliche Ebenen zu verstehen. Der Workshop bi
 etet eine interaktive Plattform für den Austausch von Ideen und Erfahrung
 en im Hinblick auf die Bedeutung des Spiels in der Welt des Kindes.\n\n&nb
 sp\;\n\n\n\n\n\n\nWorkshop Nr. : AP-2025-31\n\n\n\n\n\n\nMi. 21.10.2026\, 
 15.00 -18.00 Uhr\n\n\n\n\n\n\nSabine Spehrlich\n\n30\,00€\n\n\n\n\n\n20 
 Freie Plätze\n\n\n\n\n\nAnmeldung bis: Mi. 07.10.2026\n\n\n\n\n\n\nAWO Ki
 ta Adalbert-Stifter-Straße\n\n\n\n\nAdalbert-Stifter-Straße 81\, 38239 S
 alzgitter/Thiede\n\n\n\n\n\n\n\n\n\n&nbsp\;\n\n\n
ATTACH;FMTTYPE=image/jpeg:https://awocademy.de/wp-content/uploads/2025/10/
 Spiel-Bedeutung-e1760534034201.jpg
CATEGORIES:Pädagogik
END:VEVENT
END:VCALENDAR