BEGIN:VCALENDAR
VERSION:2.0
PRODID:-//wp-events-plugin.com//7.2.3.1//EN
BEGIN:VEVENT
UID:100@awocademy.de
DTSTART:20261118T130000Z
DTEND:20261118T153000Z
DTSTAMP:20251022T072429Z
URL:https://awocademy.de/veranstaltung/autismus-spektrum-stoerung/
SUMMARY:Autismus-Spektrum-Störung
DESCRIPTION:\n\nFür alle\, die Kinder mit Autismus besser verstehen und we
 rtschätzend begleiten möchten.\n\n&nbsp\;\n\n\n\n\n\nAutismus ist eine v
 ielfältige Entwicklungsbedingung\, die Kinder und pädagogische Fachkräf
 te vor besondere Herausforderungen stellt. In diesem Workshop erhalten Sie
  einen Überblick über die Merkmale und Besonderheiten von Kindern im Aut
 ismus-Spektrum.\n\n\n\n\nWir vermitteln praxisnahe Strategien zur Förderu
 ng\, begleiten den Austausch und stärken Ihre Kompetenzen im Umgang mit b
 etroffenen Kindern und deren Familien. Ziel ist es\, die Kinder individuel
 l zu unterstützen und ihre Stärken zu fördern.\n\n\n\n\n&nbsp\;\n\n\n\n
 \n\n\nWorkshop Nr. : AC-2026-35\n\n\n\n\n\n\nMi. 18.11.2026\, 15.00 -17.30
  Uhr\n\n\n\n\n\n\nIris Bötcher-Schmidt- Dipl. Psych.\n\n\n\n\n\n\n30\,00
 €\n\n\n\n\n\n\n20 Freie Plätze\n\n\n\n\n\n\nAnmeldung bis: Mi. 04.11.20
 26\n\n\n\n\n\n\nAWO Kita am See\n\n\n\n\nUlmenried 6-8\, 38226 Salzgitter\
 n\n\n
ATTACH;FMTTYPE=image/jpeg:https://awocademy.de/wp-content/uploads/2025/10/
 Bunt-Autismus-e1761117858972.jpg
CATEGORIES:Psychologie
END:VEVENT
END:VCALENDAR