BEGIN:VCALENDAR
VERSION:2.0
PRODID:-//wp-events-plugin.com//7.2.3.1//EN
BEGIN:VEVENT
UID:85@awocademy.de
DTSTART:20260624T130000Z
DTEND:20260624T153000Z
DTSTAMP:20251215T083121Z
URL:https://awocademy.de/veranstaltung/adhs-2/
SUMMARY:ADHS
DESCRIPTION:\n\nFür alle\, die Kinder mit ADHS sicherer begleiten und för
 dern möchten.\n\n&nbsp\;\n\nADHS betrifft viele Kinder und stellt pädago
 gische Fachkräfte vor besondere Herausforderungen. In diesem Workshop erh
 alten Sie einen fundierten Überblick über die typischen Merkmale\, Ursac
 hen und den Umgang mit ADHS im pädagogischen Alltag.\n\n\n\n\n\nWir beleu
 chten praktische Strategien zur Unterstützung der Kinder\, stärken Ihre 
 Handlungskompetenz und bieten Raum für Erfahrungsaustausch. Ziel ist es\,
  den Kindern mit Verständnis und Struktur den Raum zu geben\, den sie fü
 r ihre Entwicklung brauchen.\n\n&nbsp\;\n\n\n\n\n\n\nWorkshop Nr. : AC-202
 6-20\n\n\n\n\n\n\nMi. 24.06.2026\, 15.00 -17.30 Uhr\n\n\n\n\n\n\nIris Böt
 tcher-Schmidt - Dipl. Psych.\n\n\n\n\n\n\n30\,00€\n\n\n\n\n\n\n20 Freie 
 Plätze\n\n\n\n\n\n\nAnmeldung bis: Mi. 10.06.2026\n\n\n\n\n\n\nAWO Okerkn
 irpse\n\n\n\n\nIn den Schönen Morgen 12\, 38300 Wolfenbüttel\n\n\n
ATTACH;FMTTYPE=image/jpeg:https://awocademy.de/wp-content/uploads/2025/10/
 Spiel-ADHS-e1760522301555.jpg
CATEGORIES:Psychologie
END:VEVENT
END:VCALENDAR