BEGIN:VCALENDAR
VERSION:2.0
PRODID:-//wp-events-plugin.com//7.2.3.1//EN
BEGIN:VEVENT
UID:89@awocademy.de
DTSTART:20260901T220000Z
DTEND:20260901T220000Z
DTSTAMP:20251015T135735Z
URL:https://awocademy.de/veranstaltung/1079/
SUMMARY:Diskriminierungssensibel durch den Gruppenalltag (2 Termine)
DESCRIPTION:\n\n\n\nFür pädagogische Fachkräfte\, die aktiv zur Chanceng
 erechtigkeit und einem respektvollen Miteinander beitragen möchten.\n\n\n
 \n\n\n\n&nbsp\;\n\n\n\nDiskriminierung begegnet uns oft subtil – auch im
  Kita-Alltag. Dieser zweiteilige Workshop bietet Ihnen Raum\, um das Thema
  sensibel und praxisnah zu reflektieren und Handlungsstrategien zu entwick
 eln.\n\n\n\n\n\nGemeinsam erarbeiten wir\, wie Sie in Ihrer Gruppe eine we
 rtschätzende und inklusive Atmosphäre schaffen können\, in der Vielfalt
  als Bereicherung erlebt wird. Durch Austausch\, Fallbeispiele und praktis
 che Übungen stärken Sie Ihre Kompetenz für einen diskriminierungssensib
 len Umgang im Alltag.\n\n\n\n\n\n\n\nWorkshop Nr. : AC-2026-24\n\n\n\n\n\n
 \nMi. 02.09.2026\, 15.00 -18.00 Uhr\n\n\n\n\nWeitere Termine: Mittwoch\, 0
 9.09.\n\n\n\n\n\n\nBianca Pillai\n\n\n\n\n\n\n100\,00€\n\n\n\n\n\n\n20 F
 reie Plätze\n\n\n\n\n\n\nAnmeldung bis: Mi. 19.08.2026\n\n\n\n\n\n\nAWIST
 A\n\n\n\n\nKurt-Schumacher-Ring 4\, 38228 Salzgitter\n\n\n
ATTACH;FMTTYPE=image/jpeg:https://awocademy.de/wp-content/uploads/2025/10/
 Fernglas-e1760524695573.jpg
CATEGORIES:Haltung &amp; Kommunikation
END:VEVENT
END:VCALENDAR